BEGIN:VCALENDAR
VERSION:2.0
PRODID:-//wp-events-plugin.com//7.2.3.1//EN
BEGIN:VEVENT
UID:1523@vfhwi.de
DTSTART;TZID=Europe/Berlin:20260614T133000
DTEND;TZID=Europe/Berlin:20260614T173000
DTSTAMP:20260308T114558Z
URL:https://vfhwi.de/veranstaltungen/workshop-sicherheit-vertrauen/
SUMMARY:Workshop Sicherheit & Vertrauen
DESCRIPTION:Diese Veranstaltung kann nur von Mitgliedern des VfH RMT gebuch
 t werden.\n\nIm Workshop „Sicherheit und Vertrauen“ lernst du\, Unsich
 erheiten bei deinem Hund zu erkennen und richtig einzuordnen. Unsicherheit
  führt zu Stress und Überforderung und zeigt sich z.b. durch Flucht oder
  Bellen. Du erfährst\, wie du deinem Hund in solchen Situationen Sicherhe
 it und Souveränität vermitteln kannst\, sodass du für ihn zum verlässl
 ichen „sicheren Hafen“ wirst.\nDas stärkt das Vertrauen\, fördert En
 tspannung und bildet die Grundlage für ein harmonisches Miteinander sowie
  für viele Alltagssituationen wie Begegnungen\, das Alleinbleiben oder de
 n Umgang mit besonderen Stresssituationen.\n\nWorkshop ca. 4h - max. 6 Hun
 d-Mensch - Teams\n\nBitte bringe folgende Gegenstände mit:\n\n 	Festes Sc
 huhwerk und wetterfeste Kleidung\n 	⁠Wasser und Napf für Deinen Hund\n 
 	weiche\, kleine gute Leckerlies\n 	Hundedecke\n\nDie Kursgebühr i.H.v. 4
 0 EUR (aktiv) / 15 EUR (passiv) ist nach Buchung des/der u.a. Tickets sofo
 rt fällig.\nEine Reservierungsbestätigung erfolgt erst nach Zahlung der 
 Gebühr auf unser Vereinskonto.\n\nDer Platz ist erst dann sicher\, wenn d
 ie Zahlung innerhalb von max. 2 Tagen auf unserem Konto eingegangen ist. A
 nderenfalls wird der Platz wieder freigegeben.\nBei Verhinderung erfolgt K
 EINE Erstattung der Kursgebühr.\nGgf. kann der Platz nach Absprache mit S
 andra an ein anderes Mitglied abgetreten werden.\n\nKontodaten\nWiesbadene
 r Volksbank     IBAN DE19 5109 0000 0006 2164 04\nVerwendungszweck:  
         Workshop Sicherheit &amp\; Vertrauen – [Dein Vor- und Nac
 hname]
ATTACH;FMTTYPE=image/jpeg:https://vfhwi.de/wp-content/uploads/2026/02/Sich
 erheit.jpeg
CATEGORIES:Besonderes Trainingsangebot
LOCATION:VfH Vereinsgelände\, Nauroder Straße 134\, Wiesbaden\, Hessen\, 
 65207\, Deutschland
X-APPLE-STRUCTURED-LOCATION;VALUE=URI;X-ADDRESS=Nauroder Straße 134\, Wies
 baden\, Hessen\, 65207\, Deutschland;X-APPLE-RADIUS=100;X-TITLE=VfH Verein
 sgelände:geo:0,0
END:VEVENT
BEGIN:VTIMEZONE
TZID:Europe/Berlin
X-LIC-LOCATION:Europe/Berlin
BEGIN:DAYLIGHT
DTSTART:20260329T030000
TZOFFSETFROM:+0100
TZOFFSETTO:+0200
TZNAME:CEST
END:DAYLIGHT
END:VTIMEZONE
END:VCALENDAR