BEGIN:VCALENDAR
VERSION:2.0
PRODID:-//wp-events-plugin.com//7.2.3.1//EN
BEGIN:VEVENT
UID:1518@vfhwi.de
DTSTART;TZID=Europe/Berlin:20260425T163000
DTEND;TZID=Europe/Berlin:20260425T183000
DTSTAMP:20260308T114201Z
URL:https://vfhwi.de/veranstaltungen/workshop-rueckruf-teil-1/
SUMMARY:Workshop Sicherer Rückruf 25.04.2026 + 02.05.2026
DESCRIPTION:Diese Veranstaltung kann nur von Mitgliedern des VfH RMT gebuch
 t werden.\n\nSonja zeigt Euch das wichtigste Kommando im Hundealltag.\n\nE
 in verlässlicher Rückruf ist eines der wichtigsten Kommandos im Zusammen
 leben mit deinem Hund. In diesem zweitägigen Workshop lernst du die grund
 legenden Voraussetzungen für einen sicheren Rückruf kennen und erfährst
 \, welche Fehlerquellen es zu vermeiden gilt. Gemeinsam konditionieren wir
  ein zuverlässiges Rückrufsignal und wenden es anschließend im Training
  an. So bist du perfekt vorbereitet um das Signal in deinem Alltag weiter 
 zu festigen - für mehr Sicherheit\, Kontrolle und Spaß im Alltag mit dei
 nem Hund.\n\nZweitägiger Workshop je 2h am 25.04.2026 + 02.05.2026\n\nmax
 . 6 Hund-Mensch - Teams\n\nBitte bringe folgende Gegenstände mit:\n\n 	Fe
 stes Schuhwerk und wetterfeste Kleidung\n 	⁠Wasser und Napf für Deinen 
 Hund\n 	normale Leine\n 	weiche\, gute Leckerlies\n 	kein Muss\, aber empf
 ohlen: Hundepfeife (keine im Ultraschallbereich\, sondern z.B. eine Einton
 pfeife von ACME)\n\nDie Kursgebühr i.H.v. 40 EUR (aktiv) / 15 EUR (passiv
 ) ist nach Buchung des/der u.a. Tickets sofort fällig.\nEine Reservierung
 sbestätigung erfolgt erst nach Zahlung der Gebühr auf unser Vereinskonto
 .\n\nDer Platz ist erst dann sicher\, wenn die Zahlung innerhalb von max. 
 2 Tagen auf unserem Konto eingegangen ist. Anderenfalls wird der Platz wie
 der freigegeben.\nBei Verhinderung erfolgt KEINE Erstattung der Kursgebüh
 r.\nGgf. kann der Platz nach Absprache mit Sandra an ein anderes Mitglied 
 abgetreten werden\n\nKontodaten\nWiesbadener Volksbank     IBAN DE19 51
 09 0000 0006 2164 04\nVerwendungszweck:          Workshop Sicherer
  Rückruf – [Dein Vor- und Nachname]
ATTACH;FMTTYPE=image/jpeg:https://vfhwi.de/wp-content/uploads/2026/02/Ruec
 kruf.jpeg
CATEGORIES:Besonderes Trainingsangebot
LOCATION:VfH Vereinsgelände\, Nauroder Straße 134\, Wiesbaden\, Hessen\, 
 65207\, Deutschland
X-APPLE-STRUCTURED-LOCATION;VALUE=URI;X-ADDRESS=Nauroder Straße 134\, Wies
 baden\, Hessen\, 65207\, Deutschland;X-APPLE-RADIUS=100;X-TITLE=VfH Verein
 sgelände:geo:0,0
END:VEVENT
BEGIN:VTIMEZONE
TZID:Europe/Berlin
X-LIC-LOCATION:Europe/Berlin
BEGIN:DAYLIGHT
DTSTART:20260329T030000
TZOFFSETFROM:+0100
TZOFFSETTO:+0200
TZNAME:CEST
END:DAYLIGHT
END:VTIMEZONE
END:VCALENDAR