BEGIN:VCALENDAR
VERSION:2.0
PRODID:-//wp-events-plugin.com//7.2.3.1//EN
BEGIN:VEVENT
UID:1519@vfhwi.de
DTSTART;TZID=Europe/Berlin:20260502T163000
DTEND;TZID=Europe/Berlin:20260502T183000
DTSTAMP:20260308T114247Z
URL:https://vfhwi.de/veranstaltungen/workshop-rueckruf-25-04-2026-02-05-20
 26/
SUMMARY:Workshop Sicherer Rückruf 25.04.2026 + 02.05.2026
DESCRIPTION:Buchung nur über den Veranstaltungstag 25.04.2026 möglich.\nD
 iese Veranstaltung kann nur von Mitgliedern des VfH RMT gebucht werden.\n\
 nSonja zeigt Euch das wichtigste Kommando im Hundealltag.\n\nEin verlässl
 icher Rückruf ist eines der wichtigsten Kommandos im Zusammenleben mit de
 inem Hund. In diesem zweitägigen Workshop lernst du die grundlegenden Vor
 aussetzungen für einen sicheren Rückruf kennen und erfährst\, welche Fe
 hlerquellen es zu vermeiden gilt. Gemeinsam konditionieren wir ein zuverl
 ässiges Rückrufsignal und wenden es anschließend im Training an. So bis
 t du perfekt vorbereitet um das Signal in deinem Alltag weiter zu festigen
  - für mehr Sicherheit\, Kontrolle und Spaß im Alltag mit deinem Hund.\n
 \nZweiter Teil des zweitägigen Workshops zu je 2h am 25.04.2026 + 02.05.2
 026\n\nBitte bringe folgende Gegenstände mit:\n\n 	Festes Schuhwerk und w
 etterfeste Kleidung\n 	⁠Wasser und Napf für Deinen Hund\n 	normale Lein
 e\n 	weiche\, gute Leckerlies\n 	kein Muss\, aber empfohlen: Hundepfeife (
 keine im Ultraschallbereich\, sondern z.B. eine Eintonpfeife von ACME)\n\n
 Die Kursgebühr i.H.v. 40 EUR (aktiv) / 15 EUR (passiv) ist nach Buchung d
 es/der u.a. Tickets sofort fällig.\nEine Reservierungsbestätigung erfolg
 t erst nach Zahlung der Gebühr auf unser Vereinskonto.\n\nDer Platz ist e
 rst dann sicher\, wenn die Zahlung innerhalb von max. 2 Tagen auf unserem 
 Konto eingegangen ist. Anderenfalls wird der Platz wieder freigegeben.\nBe
 i Verhinderung erfolgt KEINE Erstattung der Kursgebühr.\nGgf. kann der Pl
 atz nach Absprache mit Sandra an ein anderes Mitglied abgetreten werden\n\
 nKontodaten\nWiesbadener Volksbank     IBAN DE19 5109 0000 0006 2164 04
 \nVerwendungszweck:          Workshop Sicherer Rückruf – [Dein 
 Vor- und Nachname]
ATTACH;FMTTYPE=image/jpeg:https://vfhwi.de/wp-content/uploads/2026/02/Ruec
 kruf.jpeg
CATEGORIES:Besonderes Trainingsangebot
LOCATION:VfH Vereinsgelände\, Nauroder Straße 134\, Wiesbaden\, Hessen\, 
 65207\, Deutschland
X-APPLE-STRUCTURED-LOCATION;VALUE=URI;X-ADDRESS=Nauroder Straße 134\, Wies
 baden\, Hessen\, 65207\, Deutschland;X-APPLE-RADIUS=100;X-TITLE=VfH Verein
 sgelände:geo:0,0
END:VEVENT
BEGIN:VTIMEZONE
TZID:Europe/Berlin
X-LIC-LOCATION:Europe/Berlin
BEGIN:DAYLIGHT
DTSTART:20260329T030000
TZOFFSETFROM:+0100
TZOFFSETTO:+0200
TZNAME:CEST
END:DAYLIGHT
END:VTIMEZONE
END:VCALENDAR