BEGIN:VCALENDAR
VERSION:2.0
PRODID:-//wp-events-plugin.com//7.2.3.1//EN
BEGIN:VEVENT
UID:1524@vfhwi.de
DTSTART;TZID=Europe/Berlin:20260628T090000
DTEND;TZID=Europe/Berlin:20260628T130000
DTSTAMP:20260308T114656Z
URL:https://vfhwi.de/veranstaltungen/workshop-marker-clicker/
SUMMARY:Workshop Marker & Clicker
DESCRIPTION:Diese Veranstaltung kann nur von Mitgliedern des VfH RMT gebuch
 t werden.\n\nIn diesem Workshop lernst du\, wie du den Clicker oder ein Ma
 rkerwort richtig konditionierst und gezielt im Training einsetzt.\nEin Cli
 cker bzw. Markerwort ermöglicht dir\, das gewünschte Verhalten deines Hu
 ndes punktgenau zu bestätigen – so kann er besonders schnell und effekt
 iv Neues lernen.\nAußerdem lernst du\, wie du mit deinem Hund im „freie
 n Formen“ arbeitest – eine der anspruchsvollsten Formen der kognitiven
  Auslastung. Dein Hund wird dabei motiviert\, selbst nachzudenken und eige
 ne Lösungswege zu finden. Ob draußen oder als spannende Indoor-Beschäft
 igung an Regentagen: Clicker- und Markertraining ist vielseitig einsetzbar
  und findet in nahezu jeder Hundesportart Anwendung\, z. B. im Begleithund
 etraining oder Rally Obedience. Ein Workshop für alle\, die ihren Hund ve
 rständlich\, kreativ und mit Freude trainieren möchten.\n\nWorkshop ca. 
 4h - max. 6 Hund-Mensch - Teams\n\nBitte bringe folgende Gegenstände mit:
 \n\n 	Festes Schuhwerk und wetterfeste Kleidung\n 	⁠Wasser und Napf für
  Deinen Hund\n 	weiche\, kleine gute Leckerlies\n 	Clicker (sofern ein Cli
 cker konditioniert werden soll)\n 	Hundedecke\n\nDie Kursgebühr i.H.v. 40
  EUR (aktiv) / 15 EUR (passiv) ist nach Buchung des/der u.a. Tickets sofor
 t fällig.\nEine Reservierungsbestätigung erfolgt erst nach Zahlung der G
 ebühr auf unser Vereinskonto.\n\nDer Platz ist erst dann sicher\, wenn di
 e Zahlung innerhalb von max. 2 Tagen auf unserem Konto eingegangen ist. An
 derenfalls wird der Platz wieder freigegeben.\nBei Verhinderung erfolgt KE
 INE Erstattung der Kursgebühr.\nGgf. kann der Platz nach Absprache mit Sa
 ndra an ein anderes Mitglied abgetreten werden.\n\nKontodaten\nWiesbadener
  Volksbank     IBAN DE19 5109 0000 0006 2164 04\nVerwendungszweck:   
        Workshop Marker &amp\; Clicker – [Dein Vor- und Nachname]
ATTACH;FMTTYPE=image/jpeg:https://vfhwi.de/wp-content/uploads/2026/02/Clic
 ker.jpeg
CATEGORIES:Besonderes Trainingsangebot
LOCATION:VfH Vereinsgelände\, Nauroder Straße 134\, Wiesbaden\, Hessen\, 
 65207\, Deutschland
X-APPLE-STRUCTURED-LOCATION;VALUE=URI;X-ADDRESS=Nauroder Straße 134\, Wies
 baden\, Hessen\, 65207\, Deutschland;X-APPLE-RADIUS=100;X-TITLE=VfH Verein
 sgelände:geo:0,0
END:VEVENT
BEGIN:VTIMEZONE
TZID:Europe/Berlin
X-LIC-LOCATION:Europe/Berlin
BEGIN:DAYLIGHT
DTSTART:20260329T030000
TZOFFSETFROM:+0100
TZOFFSETTO:+0200
TZNAME:CEST
END:DAYLIGHT
END:VTIMEZONE
END:VCALENDAR