BEGIN:VCALENDAR
VERSION:2.0
PRODID:-//wp-events-plugin.com//7.2.3.1//EN
BEGIN:VEVENT
UID:1521@vfhwi.de
DTSTART;TZID=Europe/Berlin:20260531T133000
DTEND;TZID=Europe/Berlin:20260531T173000
DTSTAMP:20260308T114427Z
URL:https://vfhwi.de/veranstaltungen/workshop-leinenfuehrigkeit/
SUMMARY:Workshop Leinenführigkeit
DESCRIPTION:Diese Veranstaltung kann nur von Mitgliedern des VfH RMT gebuch
 t werden.\n\nSonja zeigt Euch wie es mit der Leine klappt.\n\nIm Workshop 
 „Leinenführigkeit statt Tauziehen“ schauen wir uns an\, warum Hunde a
 n der Leine ziehen und welche wichtigen Bausteine zu einer guten Leinenfü
 hrigkeit gehören. Du lernst\, wie diese Schritt für Schritt aufgebaut we
 rden und worauf es im Training ankommt. Eine zuverlässige Leinenführigke
 it ist die Grundlage für entspannte Spaziergänge und bildet die Basis f
 ür viele Alltagssituationen wie z.B. für gelassene Begegnungen mit Mensc
 hen und Hunden. Gemeinsam trainieren wir praxisnah und gehen auch auf indi
 viduelle Herausforderungen ein.\n\nWorkshop ca. 4h - max. 6 Hund-Mensch - 
 Teams\n\nBitte bringe folgende Gegenstände mit:\n\n 	Festes Schuhwerk und
  wetterfeste Kleidung\n 	⁠Wasser und Napf für Deinen Hund\n 	weiche\, k
 leine gute Leckerlies\, Geschirr/Halsband/Leine\, d.h. das\, was der Hund 
 im Alltag immer trägt\n\nDie Kursgebühr i.H.v. 40 EUR (aktiv) / 15 EUR (
 passiv) ist nach Buchung des/der u.a. Tickets sofort fällig.\nEine Reserv
 ierungsbestätigung erfolgt erst nach Zahlung der Gebühr auf unser Verein
 skonto.\n\nDer Platz ist erst dann sicher\, wenn die Zahlung innerhalb von
  max. 2 Tagen auf unserem Konto eingegangen ist. Anderenfalls wird der Pla
 tz wieder freigegeben.\nBei Verhinderung erfolgt KEINE Erstattung der Kurs
 gebühr.\nGgf. kann der Platz nach Absprache mit Sandra an ein anderes Mit
 glied abgetreten werden\n\nKontodaten\nWiesbadener Volksbank     IBAN D
 E19 5109 0000 0006 2164 04\nVerwendungszweck:          Workshop Le
 inenführigkeit – [Dein Vor- und Nachname]
ATTACH;FMTTYPE=image/jpeg:https://vfhwi.de/wp-content/uploads/2026/02/Lein
 enfuehrigkeit.jpeg
CATEGORIES:Besonderes Trainingsangebot
LOCATION:VfH Vereinsgelände\, Nauroder Straße 134\, Wiesbaden\, Hessen\, 
 65207\, Deutschland
X-APPLE-STRUCTURED-LOCATION;VALUE=URI;X-ADDRESS=Nauroder Straße 134\, Wies
 baden\, Hessen\, 65207\, Deutschland;X-APPLE-RADIUS=100;X-TITLE=VfH Verein
 sgelände:geo:0,0
END:VEVENT
BEGIN:VTIMEZONE
TZID:Europe/Berlin
X-LIC-LOCATION:Europe/Berlin
BEGIN:DAYLIGHT
DTSTART:20260329T030000
TZOFFSETFROM:+0100
TZOFFSETTO:+0200
TZNAME:CEST
END:DAYLIGHT
END:VTIMEZONE
END:VCALENDAR