BEGIN:VCALENDAR
VERSION:2.0
PRODID:-//wp-events-plugin.com//7.2.3.1//EN
BEGIN:VEVENT
UID:1520@vfhwi.de
DTSTART;TZID=Europe/Berlin:20260530T163000
DTEND;TZID=Europe/Berlin:20260530T193000
DTSTAMP:20260308T114334Z
URL:https://vfhwi.de/veranstaltungen/workshop-decke/
SUMMARY:Workshop Meine Decke mein Ruheplatz
DESCRIPTION:Diese Veranstaltung kann nur von Mitgliedern des VfH RMT gebuch
 t werden.\n\nSonja zeigt Euch wie es mit dem Deckentraining klappt.\n\nDas
  Deckentraining ist mehr\, als den Hund einfach „auf die Decke“ zu sch
 icken. Es ist ein zentraler Bestandteil des Hundealltags. Der Hund lernt\,
  die Decke als sicheren Ruheort zu nutzen. Dies bildet die Basis für ents
 panntes Alleinbleiben\, ruhiges Verhalten bei Besuch\, Gelassenheit in Gas
 tstätten oder einfach mal eine kleine Pause. Für jedem Hund\, ganz beson
 ders für Welpen und Junghunde\, schafft das Training von Anfang an eine s
 tabile Grundlage für Ruhe\, Sicherheit und Selbstkontrolle.\n\nWorkshop c
 a. 3h - max. 6 Hund-Mensch - Teams\n\nBitte bringe folgende Gegenstände m
 it:\n\n 	Festes Schuhwerk und wetterfeste Kleidung\n 	⁠Wasser und Napf f
 ür Deinen Hund\n 	Hundedecke\n 	weiche\, gute Leckerlies\n\nDie Kursgebü
 hr i.H.v. 40 EUR (aktiv) / 15 EUR (passiv) ist nach Buchung des/der u.a. T
 ickets sofort fällig.\nEine Reservierungsbestätigung erfolgt erst nach Z
 ahlung der Gebühr auf unser Vereinskonto.\n\nDer Platz ist erst dann sich
 er\, wenn die Zahlung innerhalb von max. 2 Tagen auf unserem Konto eingega
 ngen ist. Anderenfalls wird der Platz wieder freigegeben.\nBei Verhinderun
 g erfolgt KEINE Erstattung der Kursgebühr.\nGgf. kann der Platz nach Absp
 rache mit Sandra an ein anderes Mitglied abgetreten werden.\n\nKontodaten\
 nWiesbadener Volksbank     IBAN DE19 5109 0000 0006 2164 04\nVerwendung
 szweck:          Workshop Deckentraining – [Dein Vor- und Nachna
 me]
ATTACH;FMTTYPE=image/jpeg:https://vfhwi.de/wp-content/uploads/2026/02/Deck
 e.jpeg
CATEGORIES:Besonderes Trainingsangebot
LOCATION:VfH Vereinsgelände\, Nauroder Straße 134\, Wiesbaden\, Hessen\, 
 65207\, Deutschland
X-APPLE-STRUCTURED-LOCATION;VALUE=URI;X-ADDRESS=Nauroder Straße 134\, Wies
 baden\, Hessen\, 65207\, Deutschland;X-APPLE-RADIUS=100;X-TITLE=VfH Verein
 sgelände:geo:0,0
END:VEVENT
BEGIN:VTIMEZONE
TZID:Europe/Berlin
X-LIC-LOCATION:Europe/Berlin
BEGIN:DAYLIGHT
DTSTART:20260329T030000
TZOFFSETFROM:+0100
TZOFFSETTO:+0200
TZNAME:CEST
END:DAYLIGHT
END:VTIMEZONE
END:VCALENDAR