BEGIN:VCALENDAR
VERSION:2.0
PRODID:-//wp-events-plugin.com//7.2.3.1//EN
BEGIN:VEVENT
UID:1522@vfhwi.de
DTSTART;TZID=Europe/Berlin:20260607T133000
DTEND;TZID=Europe/Berlin:20260607T173000
DTSTAMP:20260308T114509Z
URL:https://vfhwi.de/veranstaltungen/workshop-ausdrucksverhalten/
SUMMARY:Workshop Hundesprache lesen und verstehen
DESCRIPTION:Diese Veranstaltung kann nur von Mitgliedern des VfH RMT gebuch
 t werden.\n\nSonja sagt Euch was Euer Hund erzählt.\n\nIm Workshop „Hun
 desprache lesen und verstehen“ beschäftigen wir uns intensiv mit dem Au
 sdrucksverhalten von Hunden. Du lernst\, die Körpersprache richtig zu deu
 ten\, Verhalten besser einzuordnen und einzuschätzen\, wann es sinnvoll i
 st einzugreifen oder Situationen laufen zu lassen. Anhand verschiedener Hu
 nd-Hund- sowie Hund-Mensch-Begegnungen analysieren und besprechen wir typi
 sche Alltagssituationen praxisnah.\n\nHinweis:\nAn den Hund-Hund- oder Hun
 d-Mensch-Kontakten können nur Hunde teilnehmen\, die über eine grundlege
 nde Sozialverträglichkeit verfügen.\n\nWorkshop ca. 4h - max. 6 Hund-Men
 sch - Teams\n\nBitte bringe folgende Gegenstände mit:\n\n 	Festes Schuhwe
 rk und wetterfeste Kleidung\n 	⁠Wasser und Napf für Deinen Hund\n 	weic
 he\, kleine gute Leckerlies\n 	Hundedecke\n\nDie Kursgebühr i.H.v. 40 EUR
  (aktiv) / 15 EUR (passiv) ist nach Buchung des/der u.a. Tickets sofort f
 ällig.\nEine Reservierungsbestätigung erfolgt erst nach Zahlung der Geb
 ühr auf unser Vereinskonto.\n\nDer Platz ist erst dann sicher\, wenn die 
 Zahlung innerhalb von max. 2 Tagen auf unserem Konto eingegangen ist. Ande
 renfalls wird der Platz wieder freigegeben.\nBei Verhinderung erfolgt KEIN
 E Erstattung der Kursgebühr.\nGgf. kann der Platz nach Absprache mit Sand
 ra an ein anderes Mitglied abgetreten werden.\n\nKontodaten\nWiesbadener V
 olksbank     IBAN DE19 5109 0000 0006 2164 04\nVerwendungszweck:    
       Workshop Hundesprache – [Dein Vor- und Nachname]
ATTACH;FMTTYPE=image/jpeg:https://vfhwi.de/wp-content/uploads/2026/02/Hund
 esprache.jpeg
CATEGORIES:Besonderes Trainingsangebot
LOCATION:VfH Vereinsgelände\, Nauroder Straße 134\, Wiesbaden\, Hessen\, 
 65207\, Deutschland
X-APPLE-STRUCTURED-LOCATION;VALUE=URI;X-ADDRESS=Nauroder Straße 134\, Wies
 baden\, Hessen\, 65207\, Deutschland;X-APPLE-RADIUS=100;X-TITLE=VfH Verein
 sgelände:geo:0,0
END:VEVENT
BEGIN:VTIMEZONE
TZID:Europe/Berlin
X-LIC-LOCATION:Europe/Berlin
BEGIN:DAYLIGHT
DTSTART:20260329T030000
TZOFFSETFROM:+0100
TZOFFSETTO:+0200
TZNAME:CEST
END:DAYLIGHT
END:VTIMEZONE
END:VCALENDAR