BEGIN:VCALENDAR
VERSION:2.0
PRODID:-//wp-events-plugin.com//7.2.3.1//EN
BEGIN:VEVENT
UID:672@vfhwi.de
DTSTART;TZID=Europe/Berlin:20250507T190000
DTEND;TZID=Europe/Berlin:20250507T203000
DTSTAMP:20250420T110951Z
URL:https://vfhwi.de/veranstaltungen/vorstandssitzung-2025-05-07/
SUMMARY:Vorstandssitzung
DESCRIPTION:Sitzungen des Gesamtvorstandes werden durch den 1. Vorsitzenden
 \, bei dessen Verhinderung vom 2. Vorsitzenden\, einberufen.\n\nDer Gesamt
 vorstand ist für die Angelegenheiten des Vereins zuständig\, soweit sie 
 nicht durch das Gesetz oder die Satzung einem anderen Organ des Vereins ü
 bertragen sind.\nVon allen Versammlungen und Sitzungen sind Protokolle anz
 ufertigen und vom Sitzungsleiter und vom Schriftführer zu unterzeichnen.\
 n\nWenn die Vorstandssitzung als "öffentlich" bezeichnet ist\, steht es d
 em Vereinsmitglied zu\, an der Online Sitzung teilzunehmen.\n\nEine Anmeld
 ung über info@vfhwi.de unter Angabe des Namens\, der Telefonnummer und de
 r Mailadresse des Mitglieds ist erforderlich. \n\nDie Anmeldung muss spät
 estens 24 Stunden vor Beginn der öffentlichen Vorstandssitzung eingegange
 n sein.
CATEGORIES:Betriebsinfo
END:VEVENT
BEGIN:VTIMEZONE
TZID:Europe/Berlin
X-LIC-LOCATION:Europe/Berlin
BEGIN:DAYLIGHT
DTSTART:20250330T030000
TZOFFSETFROM:+0100
TZOFFSETTO:+0200
TZNAME:CEST
END:DAYLIGHT
END:VTIMEZONE
END:VCALENDAR