BEGIN:VCALENDAR
VERSION:2.0
PRODID:-//wp-events-plugin.com//7.2.3.1//EN
BEGIN:VEVENT
UID:705@vfhwi.de
DTSTART;TZID=Europe/Berlin:20250615T120000
DTEND;TZID=Europe/Berlin:20250615T140000
DTSTAMP:20250521T064511Z
URL:https://vfhwi.de/veranstaltungen/uebungsstunde-in-der-ponyoutdoor-reit
 schule-fuer-kinder/
SUMMARY:Übungsstunde in der Ponyoutdoor Reitschule für Kinder
DESCRIPTION:Am *Sonntag 15.06.* dürfen unsere Hunde eine Gemeinschaftsstun
 de in der Ponyoutdoor Reitschule für Kinder durchführen.\n\nNeben Pferde
 n werden wir dort auch auf Hühner\, Meerschweinchen und Hasen treffen.\n\
 nStart der Stunde ist 12 Uhr.
CATEGORIES:Besonderes Trainingsangebot,Gemeinschaft,Junghunde,Social
 Walk,Welpen
LOCATION:https://maps.app.goo.gl/RMvU3nPzNKDhSwQH9
END:VEVENT
BEGIN:VTIMEZONE
TZID:Europe/Berlin
X-LIC-LOCATION:Europe/Berlin
BEGIN:DAYLIGHT
DTSTART:20250330T030000
TZOFFSETFROM:+0100
TZOFFSETTO:+0200
TZNAME:CEST
END:DAYLIGHT
END:VTIMEZONE
END:VCALENDAR