BEGIN:VCALENDAR
VERSION:2.0
PRODID:-//wp-events-plugin.com//7.2.3.1//EN
BEGIN:VEVENT
UID:1465@vfhwi.de
DTSTART;TZID=Europe/Berlin:20261114T090000
DTEND;TZID=Europe/Berlin:20261114T120000
DTSTAMP:20260109T200409Z
URL:https://vfhwi.de/veranstaltungen/mt-mantrailing-5-2026-11-07-2026-11-1
 4/
SUMMARY:MT: Mantrailing
DESCRIPTION:Mantrailing\n\nTreffpunkt wird über WhatsApp-Gruppe bekannt ge
 geben
ATTACH;FMTTYPE=image/jpeg:https://vfhwi.de/wp-content/uploads/2026/01/mant
 railing-veranstaltungskalender.png
CATEGORIES:Mantrailing
END:VEVENT
BEGIN:VTIMEZONE
TZID:Europe/Berlin
X-LIC-LOCATION:Europe/Berlin
BEGIN:STANDARD
DTSTART:20261025T020000
TZOFFSETFROM:+0200
TZOFFSETTO:+0100
TZNAME:CET
END:STANDARD
END:VTIMEZONE
END:VCALENDAR