BEGIN:VCALENDAR
VERSION:2.0
PRODID:-//wp-events-plugin.com//7.2.3.1//EN
BEGIN:VEVENT
UID:944@vfhwi.de
DTSTART;TZID=Europe/Berlin:20260613T140000
DTEND;TZID=Europe/Berlin:20260613T144500
DTSTAMP:20260106T120822Z
URL:https://vfhwi.de/veranstaltungen/jh-junghunde-2-2026-02-21-2026-02-28-
 2026-03-07-2026-03-14-2026-03-21-2026-03-28-2026-04-04-2026-04-11-2026-04-
 18-2026-04-25-2026-05-02-2026-05-09-2026-05-16-2026-05-23-2026-05-30-2026-
 0-06-2026-06-13/
SUMMARY:JH: Junghunde
DESCRIPTION:Junghunde
ATTACH;FMTTYPE=image/jpeg:https://vfhwi.de/wp-content/uploads/2026/01/jung
 hundstunde-veranstaltungskalender-1.png
CATEGORIES:Junghunde
LOCATION:VfH Vereinsgelände\, Nauroder Straße 134\, Wiesbaden\, Hessen\, 
 65207\, Deutschland
X-APPLE-STRUCTURED-LOCATION;VALUE=URI;X-ADDRESS=Nauroder Straße 134\, Wies
 baden\, Hessen\, 65207\, Deutschland;X-APPLE-RADIUS=100;X-TITLE=VfH Verein
 sgelände:geo:0,0
END:VEVENT
BEGIN:VTIMEZONE
TZID:Europe/Berlin
X-LIC-LOCATION:Europe/Berlin
BEGIN:DAYLIGHT
DTSTART:20260329T030000
TZOFFSETFROM:+0100
TZOFFSETTO:+0200
TZNAME:CEST
END:DAYLIGHT
END:VTIMEZONE
END:VCALENDAR