BEGIN:VCALENDAR
VERSION:2.0
PRODID:-//wp-events-plugin.com//7.2.3.1//EN
BEGIN:VEVENT
UID:1364@vfhwi.de
DTSTART;TZID=Europe/Berlin:20261030T170000
DTEND;TZID=Europe/Berlin:20261030T190000
DTSTAMP:20260107T195130Z
URL:https://vfhwi.de/veranstaltungen/ag-f-agility-fuer-fortgeschrittene-2-
 2026-04-10-2026-04-17-2026-04-24-2026-05-01-2026-05-08-2026-05-15-2026-05-
 22-2026-05-29-2026-06-05-2026-06-12-2026-06-19-2026-06-26-2026-07-03-2026-
 0-23-2026-10-30/
SUMMARY:AG-F: Agility für Fortgeschrittene
DESCRIPTION:Agility für Fortgeschrittene
ATTACH;FMTTYPE=image/jpeg:https://vfhwi.de/wp-content/uploads/2026/01/agil
 ity-fortgeschrittene-veranstaltungskalender_2.png
CATEGORIES:Agility
LOCATION:VfH Vereinsgelände\, Nauroder Straße 134\, Wiesbaden\, Hessen\, 
 65207\, Deutschland
X-APPLE-STRUCTURED-LOCATION;VALUE=URI;X-ADDRESS=Nauroder Straße 134\, Wies
 baden\, Hessen\, 65207\, Deutschland;X-APPLE-RADIUS=100;X-TITLE=VfH Verein
 sgelände:geo:0,0
END:VEVENT
BEGIN:VTIMEZONE
TZID:Europe/Berlin
X-LIC-LOCATION:Europe/Berlin
BEGIN:STANDARD
DTSTART:20261025T020000
TZOFFSETFROM:+0200
TZOFFSETTO:+0100
TZNAME:CET
END:STANDARD
END:VTIMEZONE
END:VCALENDAR